BEGIN:VCALENDAR
VERSION:2.0
PRODID:-//BOEC - ECPv6.15.20//NONSGML v1.0//EN
CALSCALE:GREGORIAN
METHOD:PUBLISH
X-WR-CALNAME:BOEC
X-ORIGINAL-URL:https://boec.org
X-WR-CALDESC:Events for BOEC
REFRESH-INTERVAL;VALUE=DURATION:PT1H
X-Robots-Tag:noindex
X-PUBLISHED-TTL:PT1H
BEGIN:VTIMEZONE
TZID:America/Denver
BEGIN:DAYLIGHT
TZOFFSETFROM:-0700
TZOFFSETTO:-0600
TZNAME:MDT
DTSTART:20230312T090000
END:DAYLIGHT
BEGIN:STANDARD
TZOFFSETFROM:-0600
TZOFFSETTO:-0700
TZNAME:MST
DTSTART:20231105T080000
END:STANDARD
BEGIN:DAYLIGHT
TZOFFSETFROM:-0700
TZOFFSETTO:-0600
TZNAME:MDT
DTSTART:20240310T090000
END:DAYLIGHT
BEGIN:STANDARD
TZOFFSETFROM:-0600
TZOFFSETTO:-0700
TZNAME:MST
DTSTART:20241103T080000
END:STANDARD
BEGIN:DAYLIGHT
TZOFFSETFROM:-0700
TZOFFSETTO:-0600
TZNAME:MDT
DTSTART:20250309T090000
END:DAYLIGHT
BEGIN:STANDARD
TZOFFSETFROM:-0600
TZOFFSETTO:-0700
TZNAME:MST
DTSTART:20251102T080000
END:STANDARD
END:VTIMEZONE
BEGIN:VEVENT
DTSTART;VALUE=DATE:20240103
DTEND;VALUE=DATE:20240106
DTSTAMP:20260423T080831
CREATED:20231211T180632Z
LAST-MODIFIED:20231215T224914Z
UID:19296-1704240000-1704499199@boec.org
SUMMARY:Military Ski & Snowboard Camp
DESCRIPTION:Hosted by Keystone Adaptive Center (KAC) and Adaptive Adventures\, the Military Ski & Ride Camp is for wounded military service members. This camp features three days of quality adaptive ski and snowboard lessons at the world-class Keystone Ski Resort and is a fun way to get on the snow with top-notch instructors and equipment\, excellent food\, and fun activities. Your enrollment includes ski passes\, equipment rentals\, instruction\, lodging\, meals\, and transportation for the participant and a guest. \nThis Military Ski & Ride Camp is a great way to meet fellow military veterans and receive quality ski and/or snowboard instruction in an amazing setting in Keystone\, Colorado. \nVisit Adaptive Adventures for more details on this event.
URL:https://boec.org/program/military-ski-snowboard-camp-2024/
LOCATION:Keystone Adaptive Center\, 1222 County Road 8\, Keystone\, CO\, 80435\, United States
CATEGORIES:Adaptive Ski & Snowboard Events,Heroic Military Program
ATTACH;FMTTYPE=image/jpeg:https://boec.org/wp-content/uploads/2023/12/1.3.23-AA-Vets-Keystone-Ski-Camp-2.jpg
ORGANIZER;CN="Adaptive Adventures":MAILTO:info@adaptiveadventures.org
END:VEVENT
END:VCALENDAR