BEGIN:VCALENDAR
VERSION:2.0
PRODID:-//BOEC - ECPv6.15.20//NONSGML v1.0//EN
CALSCALE:GREGORIAN
METHOD:PUBLISH
X-ORIGINAL-URL:https://boec.org
X-WR-CALDESC:Events for BOEC
REFRESH-INTERVAL;VALUE=DURATION:PT1H
X-Robots-Tag:noindex
X-PUBLISHED-TTL:PT1H
BEGIN:VTIMEZONE
TZID:America/Denver
BEGIN:DAYLIGHT
TZOFFSETFROM:-0700
TZOFFSETTO:-0600
TZNAME:MDT
DTSTART:20250309T090000
END:DAYLIGHT
BEGIN:STANDARD
TZOFFSETFROM:-0600
TZOFFSETTO:-0700
TZNAME:MST
DTSTART:20251102T080000
END:STANDARD
BEGIN:DAYLIGHT
TZOFFSETFROM:-0700
TZOFFSETTO:-0600
TZNAME:MDT
DTSTART:20260308T090000
END:DAYLIGHT
BEGIN:STANDARD
TZOFFSETFROM:-0600
TZOFFSETTO:-0700
TZNAME:MST
DTSTART:20261101T080000
END:STANDARD
BEGIN:DAYLIGHT
TZOFFSETFROM:-0700
TZOFFSETTO:-0600
TZNAME:MDT
DTSTART:20270314T090000
END:DAYLIGHT
BEGIN:STANDARD
TZOFFSETFROM:-0600
TZOFFSETTO:-0700
TZNAME:MST
DTSTART:20271107T080000
END:STANDARD
END:VTIMEZONE
BEGIN:VEVENT
DTSTART;VALUE=DATE:20260608
DTEND;VALUE=DATE:20260614
DTSTAMP:20260424T114414
CREATED:20250131T210236Z
LAST-MODIFIED:20260406T225620Z
UID:23392-1780876800-1781395199@boec.org
SUMMARY:Heroic Veteran San Juan River Trip
DESCRIPTION:Dates: June 8-13\, 2026 \nWho: Veterans only. Coed. \nCost: Free (*Excluding travel expenses) \nAvailability is limited. \nPROGRAM FLYER \n\nDetails \nBOEC is offering a unique overnight river trip on the San Juan River in southeastern Utah\, winding through stunning desert canyon country. This section of river features mild to moderate whitewater\, making it well-suited for veterans with significant injuries while still offering an engaging and rewarding experience. \nParticipants will enjoy sandy beaches and campsites\, ancient rock art\, and breathtaking scenery throughout the journey. Our staff are highly trained in working with a wide range of disabilities and bring deep expertise in river safety\, remote environments\, and creating meaningful\, empowering experiences for both youth and adults. \nThe trip follows a classic western river expedition format. Traveling by raft allows access to a true wilderness setting while accommodating participants with mobility limitations. An educational component will enrich the experience\, offering insight into the prehistoric cultures of the Four Corners region. \nThis multi-day river trip provides an ideal environment for military veterans to reconnect\, learn new skills\, build camaraderie\, and enjoy time together. Removed from the distractions of daily life\, participants can relax\, gain fresh perspective\, and rediscover their strength and resilience while journeying down the beautiful San Juan River. \n\nEligible Participants \nThe BOEC extends a special invitation to guest/invitees of military veterans. The program is designed to accommodate veterans who have sustained a moderate to significant injury. Injuries may include\, but are not limited to\, brain injuries\, PTSD\, and/or amputees. Due to the social aspect of outdoor adventures and camping\, participants must be ready to enjoy the company of other people (including raft guides). \n\nContact caleigh@boec.org for more information.
URL:https://boec.org/program/heroic-veteran-san-juan-river-trip-2026/
LOCATION:San Juan River\, Bluff\, UT\, United States
CATEGORIES:Heroic Military Program
ATTACH;FMTTYPE=image/png:https://boec.org/wp-content/uploads/2025/01/Untitled-design-22.png
ORGANIZER;CN="BOEC - Summer":MAILTO:caleigh@boec.org
END:VEVENT
BEGIN:VEVENT
DTSTART;VALUE=DATE:20260725
DTEND;VALUE=DATE:20260731
DTSTAMP:20260424T114414
CREATED:20250131T211527Z
LAST-MODIFIED:20260319T213755Z
UID:23399-1784937600-1785455999@boec.org
SUMMARY:Heroic Families Ruby/Horsethief River Trip
DESCRIPTION:Dates: July 25-30\, 2026 \nWho: Veterans and their family members only. Coed. \nCost: Free (*Excluding travel expenses) \nAvailability is limited. \nPROGRAM FLYER \n\nDetails \n\nJoin a classic western river trip along the Colorado River in southwestern Colorado and southeastern Utah. Flowing through stunning canyon country\, this trip offers a mix of calm water and exciting whitewater. This remote adventure is perfect for a digital detox\, with no cell service along the route. \nThe trip has two parts. First\, enjoy a 25-mile paddle through Ruby and Horsethief Canyons in canoes\, inflatable kayaks\, or paddleboards\, with opportunities for wildlife viewing and short hikes. Support rafts will carry gear and are available for those who prefer to ride. The second part is a full day of whitewater rafting through Westwater Canyon\, featuring 17 miles and 11 Class III+ to IV rapids. Participants must be at least 10 years old for this section. \nThis multi-day experience offers a chance to reconnect\, build skills\, strengthen relationships\, and unwind in a beautiful wilderness setting. The trip is designed to be inclusive for veterans with mobility restrictions\, and family members are encouraged to join as part of the shared experience. \n\n\nEligible Participants \nThe BOEC extends a special invitation exclusively to military veterans and their families.  This river trip is designed to accommodate veterans who have sustained a moderate to significant injury.  Injuries may include but are not limited to brain injuries\, PTSD\, and/or amputees.  Due to the social aspect of outdoor adventures and camping\, participants must be ready to enjoy the company of other people. \n\nContact caleigh@boec.org for more information!
URL:https://boec.org/program/heroic-families-ruby-horsethief-river-trip-2026/
LOCATION:Colorado River\, Southwestern Colorado and Southeastern Utah\, CO\, United States
CATEGORIES:Heroic Military Program
ATTACH;FMTTYPE=image/jpeg:https://boec.org/wp-content/uploads/2025/01/20230803_181821_FC5DAE.jpeg
ORGANIZER;CN="BOEC - Summer":MAILTO:caleigh@boec.org
END:VEVENT
BEGIN:VEVENT
DTSTART;VALUE=DATE:20260910
DTEND;VALUE=DATE:20260917
DTSTAMP:20260424T114414
CREATED:20250131T212326Z
LAST-MODIFIED:20260319T214511Z
UID:23406-1788998400-1789603199@boec.org
SUMMARY:Heroic Women's Labyrinth River Trip
DESCRIPTION:Dates: September 10-16\, 2026 \nWho: Female Veterans Only \nCost: Free (*Excluding travel expenses) \nAvailability is limited. \nPROGRAM FLYER \n\nDetails \nTake part in a classic western river trip along the Green River. Traveling by raft\, canoe\, kayak\, or paddleboard provides access to the spectacular sandstone cliffs and remote beauty of Labyrinth Canyon. Along the way\, we’ll also take side hikes to further explore and fully immerse ourselves in this stunning wilderness environment. \nThis multi-day trip offers an ideal setting for military veterans to reconnect\, learn new skills\, build camaraderie\, and unwind. Away from the distractions of daily life\, participants can gain a renewed appreciation for the outdoors and rediscover their strength and resilience while journeying down the Green River. \n\nEligible Participants \nThe BOEC extends a special invitation exclusively to military veterans. This river trip is designed to accommodate female identifying veterans who have sustained a moderate to significant injury. Injuries may include but are not limited to brain injuries\, PTSD\, and/or amputees. Due to the social aspect of outdoor adventures and camping\, participants must be ready to enjoy the company of other people. \n\nContact caleigh@boec.org for more information!
URL:https://boec.org/program/heroic-womens-labyrinth-river-trip-2026/
LOCATION:The Green River\, East-Central Utah\, UT\, United States
CATEGORIES:Heroic Military Program
ATTACH;FMTTYPE=image/png:https://boec.org/wp-content/uploads/2025/01/Untitled-design-23.png
ORGANIZER;CN="BOEC - Summer":MAILTO:caleigh@boec.org
END:VEVENT
END:VCALENDAR