BEGIN:VCALENDAR
VERSION:2.0
PRODID:-//BOEC - ECPv6.15.20//NONSGML v1.0//EN
CALSCALE:GREGORIAN
METHOD:PUBLISH
X-WR-CALNAME:BOEC
X-ORIGINAL-URL:https://boec.org
X-WR-CALDESC:Events for BOEC
REFRESH-INTERVAL;VALUE=DURATION:PT1H
X-Robots-Tag:noindex
X-PUBLISHED-TTL:PT1H
BEGIN:VTIMEZONE
TZID:America/Denver
BEGIN:DAYLIGHT
TZOFFSETFROM:-0700
TZOFFSETTO:-0600
TZNAME:MDT
DTSTART:20220313T090000
END:DAYLIGHT
BEGIN:STANDARD
TZOFFSETFROM:-0600
TZOFFSETTO:-0700
TZNAME:MST
DTSTART:20221106T080000
END:STANDARD
BEGIN:DAYLIGHT
TZOFFSETFROM:-0700
TZOFFSETTO:-0600
TZNAME:MDT
DTSTART:20230312T090000
END:DAYLIGHT
BEGIN:STANDARD
TZOFFSETFROM:-0600
TZOFFSETTO:-0700
TZNAME:MST
DTSTART:20231105T080000
END:STANDARD
BEGIN:DAYLIGHT
TZOFFSETFROM:-0700
TZOFFSETTO:-0600
TZNAME:MDT
DTSTART:20240310T090000
END:DAYLIGHT
BEGIN:STANDARD
TZOFFSETFROM:-0600
TZOFFSETTO:-0700
TZNAME:MST
DTSTART:20241103T080000
END:STANDARD
END:VTIMEZONE
BEGIN:VEVENT
DTSTART;VALUE=DATE:20230725
DTEND;VALUE=DATE:20230729
DTSTAMP:20260424T044857
CREATED:20230510T222204Z
LAST-MODIFIED:20230511T220701Z
UID:17638-1690243200-1690588799@boec.org
SUMMARY:Cleft Lip and Palate Camp Colorado Briargate Clinic
DESCRIPTION:Dates: July 25-28\, 2023\nWho: Ages 8-18 born with cleft lip and/or palate\nLocation: Breckenridge Outdoor Education Center\, Scott Griffith Lodge\, Breckenridge\nMore information: (719) 305-9558 or email: Amber.Kerr@childrenscolorado.org \n\nCleft Camp is a four-day camp specifically for youth and young adults born with cleft lip and/or palate. This camp provides children the opportunity to spend quality time with others who share a similar diagnosis. In the mountains of Breckenridge\, campers participate in various outdoor activities\, engage in teamwork\, enhance self-esteem\, and leave feeling more confident. While at camp\, participants enjoy hiking\, ropes courses\, a climbing wall\, canoeing\, arts & crafts\, and other games. Campers also participate in a sharing circle which allows campers to talk about their feelings in a safe environment\, ask fellow campers questions about cleft-related issues\, and form solid friendships.
URL:https://boec.org/program/cleft-lip-and-palate-camp-colorado-briargate-clinic/
LOCATION:BOEC Wilderness Campus\, 300 Snowy Ridge Road\, Breckenridge\, CO\, 80424\, United States
CATEGORIES:Cleft Palate Camps
ATTACH;FMTTYPE=image/jpeg:https://boec.org/wp-content/uploads/2023/05/CleftLipPalateCampBriar.jpg
ORGANIZER;CN="Children's Hospital Colorado":MAILTO:RehabOutdoorPrograms@childrenscolorado.org
END:VEVENT
BEGIN:VEVENT
DTSTART;VALUE=DATE:20230720
DTEND;VALUE=DATE:20230724
DTSTAMP:20260424T044857
CREATED:20230510T221023Z
LAST-MODIFIED:20230511T220457Z
UID:17634-1689811200-1690156799@boec.org
SUMMARY:Cleft Lip and Palate Camp Aurora Clinic
DESCRIPTION:Dates: July 20-23\, 2023\nWho: Ages 8-18 born with cleft lip and/or palate\nMore information: 720-777-2574 or email Jamie.Idelberg@childrenscolorado.org\n\n\n\n\nCleft Camp is a four-day camp specifically for youth and young adults born with cleft lip and/or palate. This camp provides children the opportunity to spend quality time with others who share a similar diagnosis. In the mountains of Breckenridge\, campers participate in various outdoor activities\, engage in teamwork\, enhance self-esteem\, and leave feeling more confident. While at camp\, participants enjoy hiking\, ropes courses\, a climbing wall\, canoeing\, arts & crafts\, and other games. Campers also participate in a sharing circle which allows campers to talk about their feelings in a safe environment\, ask fellow campers questions about cleft-related issues and form solid friendships.
URL:https://boec.org/program/cleft-lip-and-palate-camp-aurora-clinic/
LOCATION:BOEC Wilderness Campus\, 300 Snowy Ridge Road\, Breckenridge\, CO\, 80424\, United States
CATEGORIES:Cleft Palate Camps
ATTACH;FMTTYPE=image/jpeg:https://boec.org/wp-content/uploads/2023/05/CleftLipPalateCampAurora.jpg
ORGANIZER;CN="Children's Hospital Colorado":MAILTO:RehabOutdoorPrograms@childrenscolorado.org
END:VEVENT
END:VCALENDAR