BEGIN:VCALENDAR
VERSION:2.0
PRODID:-//BOEC - ECPv6.15.20//NONSGML v1.0//EN
CALSCALE:GREGORIAN
METHOD:PUBLISH
X-WR-CALNAME:BOEC
X-ORIGINAL-URL:https://boec.org
X-WR-CALDESC:Events for BOEC
REFRESH-INTERVAL;VALUE=DURATION:PT1H
X-Robots-Tag:noindex
X-PUBLISHED-TTL:PT1H
BEGIN:VTIMEZONE
TZID:America/Denver
BEGIN:DAYLIGHT
TZOFFSETFROM:-0700
TZOFFSETTO:-0600
TZNAME:MDT
DTSTART:20230312T090000
END:DAYLIGHT
BEGIN:STANDARD
TZOFFSETFROM:-0600
TZOFFSETTO:-0700
TZNAME:MST
DTSTART:20231105T080000
END:STANDARD
BEGIN:DAYLIGHT
TZOFFSETFROM:-0700
TZOFFSETTO:-0600
TZNAME:MDT
DTSTART:20240310T090000
END:DAYLIGHT
BEGIN:STANDARD
TZOFFSETFROM:-0600
TZOFFSETTO:-0700
TZNAME:MST
DTSTART:20241103T080000
END:STANDARD
BEGIN:DAYLIGHT
TZOFFSETFROM:-0700
TZOFFSETTO:-0600
TZNAME:MDT
DTSTART:20250309T090000
END:DAYLIGHT
BEGIN:STANDARD
TZOFFSETFROM:-0600
TZOFFSETTO:-0700
TZNAME:MST
DTSTART:20251102T080000
END:STANDARD
END:VTIMEZONE
BEGIN:VEVENT
DTSTART;VALUE=DATE:20240610
DTEND;VALUE=DATE:20240617
DTSTAMP:20260423T110735
CREATED:20240324T013749Z
LAST-MODIFIED:20240326T171138Z
UID:20007-1717977600-1718582399@boec.org
SUMMARY:San Juan River Trip with Telluride Adaptive Sports Program
DESCRIPTION:Open to veterans only\, Coed\nProgram Flyer\nDETAILS\nIn partnership with Telluride Adaptive Sports Program:\n\nBOEC and the Telluride Adaptive Sports Program (TASP) are teaming up once again to offer a unique overnight river trip on the San Juan River.  As two national leaders in outdoor adventure join forces\, the rafting trip is bound to be memorable.  Our staff are uniquely skilled and highly trained in working with many different disabilities\, highly skilled safety managers on rivers and in remote environments\, and gifted at creating fun\, powerful and empowering experiences with young people and adults.\n\n\nWho:  The BOEC and TASP extends a special invitation to guest/invitees of military veterans.  The program is designed to accommodate veterans who have sustained a moderate to significant injury.  Injuries may include\, but are not limited to\, brain injuries\, PTSD\, and/or amputees.  Due to the social aspect of outdoor adventures and camping\, participants must be ready to enjoy the company of other people (including raft guides). \n\n\n\n\nWhat: A classic western river trip format will be utilized. Floating down river in rafts will provide access to a true wilderness environment while providing the ability to serve veterans who have mobility restrictions. An educational component will also be included by providing exposure to the prehistoric culture of the four-corners region.\n\n\n\nWhere: The trip will be conducted on the San Juan River in southeast Utah through beautiful desert canyon country and offers mild to moderate white water that is suitable for vets with significant injury and families with kids. Sandy beaches and camps\, ancient rock art and beautiful scenery will be highlights of the trip.\n\n\n\nWhy:  A multi-day river trip is an ideal setting for military veterans to reintegrate\, acquire new knowledge and skills together\, create bonds\, and have fun together\, and relax.  Away from everyday routines and daily life distractions one can find new appreciations for life and rediscover their strength and solidity as we travel down the beautiful San Juan River.
URL:https://boec.org/program/labyrinth-canyon-river-trip-with-telluride-adaptive-sports-program-2024/
LOCATION:San Juan River\, Bluff\, UT\, United States
CATEGORIES:Heroic Military Program
ATTACH;FMTTYPE=image/jpeg:https://boec.org/wp-content/uploads/2024/03/230612-group-photo-01-1-scaled.jpg
ORGANIZER;CN="BOEC - Summer":MAILTO:claire@boec.org
END:VEVENT
END:VCALENDAR