BEGIN:VCALENDAR
VERSION:2.0
PRODID:-//BOEC - ECPv6.15.20//NONSGML v1.0//EN
CALSCALE:GREGORIAN
METHOD:PUBLISH
X-ORIGINAL-URL:https://boec.org
X-WR-CALDESC:Events for BOEC
REFRESH-INTERVAL;VALUE=DURATION:PT1H
X-Robots-Tag:noindex
X-PUBLISHED-TTL:PT1H
BEGIN:VTIMEZONE
TZID:America/Denver
BEGIN:DAYLIGHT
TZOFFSETFROM:-0700
TZOFFSETTO:-0600
TZNAME:MDT
DTSTART:20220313T090000
END:DAYLIGHT
BEGIN:STANDARD
TZOFFSETFROM:-0600
TZOFFSETTO:-0700
TZNAME:MST
DTSTART:20221106T080000
END:STANDARD
BEGIN:DAYLIGHT
TZOFFSETFROM:-0700
TZOFFSETTO:-0600
TZNAME:MDT
DTSTART:20230312T090000
END:DAYLIGHT
BEGIN:STANDARD
TZOFFSETFROM:-0600
TZOFFSETTO:-0700
TZNAME:MST
DTSTART:20231105T080000
END:STANDARD
BEGIN:DAYLIGHT
TZOFFSETFROM:-0700
TZOFFSETTO:-0600
TZNAME:MDT
DTSTART:20240310T090000
END:DAYLIGHT
BEGIN:STANDARD
TZOFFSETFROM:-0600
TZOFFSETTO:-0700
TZNAME:MST
DTSTART:20241103T080000
END:STANDARD
END:VTIMEZONE
BEGIN:VEVENT
DTSTART;VALUE=DATE:20230908
DTEND;VALUE=DATE:20230912
DTSTAMP:20260424T101015
CREATED:20230511T154429Z
LAST-MODIFIED:20230511T222229Z
UID:17665-1694131200-1694476799@boec.org
SUMMARY:Brain Injury Alliance - Creative Minds
DESCRIPTION:This camp is on a waitlist \nDates: September 8-11\, 2023\nWho: Ages 17 and above with an injury to the brain\nWebsite: https://biacolorado.org/recreation-programs/\nLocation: Breckenridge Outdoor Education Center\, Scott Griffith Lodge\, Breckenridge \n\nCreative Minds is an exciting and unique program for adults with injury to the brain that incorporates alternative approaches to enhancing physical and emotional health. Activities include things such as cooking\, hiking\, field trips\, poetry\, painting\, journaling\, movement\, karaoke\, laughter\, dancing\, and socializing. This is a long weekend in Breckenridge based out of Breckenridge Outdoor Education Center’s (BOEC) Scott Griffith Lodge and staffed by volunteers\, a registered nurse\, and BOEC experienced staff/instructors and interns.
URL:https://boec.org/program/brain-injury-alliance-creative-minds/
LOCATION:BOEC Wilderness Campus\, 300 Snowy Ridge Road\, Breckenridge\, CO\, 80424\, United States
CATEGORIES:Brain Injury Camps - Adults
ATTACH;FMTTYPE=image/jpeg:https://boec.org/wp-content/uploads/2023/05/BIACreativeMinds-scaled.jpg
ORGANIZER;CN="Brain Injury Association of Colorado":MAILTO:Mikayla@BIAColorado.org
END:VEVENT
END:VCALENDAR