BEGIN:VCALENDAR
VERSION:2.0
PRODID:-//BOEC - ECPv6.15.20//NONSGML v1.0//EN
CALSCALE:GREGORIAN
METHOD:PUBLISH
X-ORIGINAL-URL:https://boec.org
X-WR-CALDESC:Events for BOEC
REFRESH-INTERVAL;VALUE=DURATION:PT1H
X-Robots-Tag:noindex
X-PUBLISHED-TTL:PT1H
BEGIN:VTIMEZONE
TZID:America/Denver
BEGIN:DAYLIGHT
TZOFFSETFROM:-0700
TZOFFSETTO:-0600
TZNAME:MDT
DTSTART:20220313T090000
END:DAYLIGHT
BEGIN:STANDARD
TZOFFSETFROM:-0600
TZOFFSETTO:-0700
TZNAME:MST
DTSTART:20221106T080000
END:STANDARD
BEGIN:DAYLIGHT
TZOFFSETFROM:-0700
TZOFFSETTO:-0600
TZNAME:MDT
DTSTART:20230312T090000
END:DAYLIGHT
BEGIN:STANDARD
TZOFFSETFROM:-0600
TZOFFSETTO:-0700
TZNAME:MST
DTSTART:20231105T080000
END:STANDARD
BEGIN:DAYLIGHT
TZOFFSETFROM:-0700
TZOFFSETTO:-0600
TZNAME:MDT
DTSTART:20240310T090000
END:DAYLIGHT
BEGIN:STANDARD
TZOFFSETFROM:-0600
TZOFFSETTO:-0700
TZNAME:MST
DTSTART:20241103T080000
END:STANDARD
END:VTIMEZONE
BEGIN:VEVENT
DTSTART;VALUE=DATE:20230828
DTEND;VALUE=DATE:20230903
DTSTAMP:20260424T101041
CREATED:20230131T195301Z
LAST-MODIFIED:20230131T195301Z
UID:16674-1693180800-1693699199@boec.org
SUMMARY:Women’s Ruby/Horsethief River Trip
DESCRIPTION:Who: Open to veterans\, Women only \nDetails\nWho:  The BOEC extends a special invitation exclusively to women military veterans.  The program is designed to accommodate veterans who have sustained a moderate to significant injury.  Injuries may include but are not limited to brain injuries\, PTSD\, and/or amputees.  Due to the social aspect of outdoor adventures and camping\, participants must be ready to enjoy the company of other people. \nWhat:  A classic western river trip.  A two-part trip\, the first part involves floating down Ruby and Horse Thief Canyons of the Colorado River in canoes\, inflatable kayaks and paddleboards.  This first section includes 25 miles of scenic views\, wildlife viewing\, and opportunities for short hikes while paddling down river.  There will also be support rafts to carry gear\, and available for anyone who may prefer to float down in a raft. \nThe second part involves a single day of fun and exciting white water rafting through Westwater Canyon of the Colorado River.  This section of river is rated class III+ to class IV.  You must be at least 10 years old and up to participate in Whitewater section of river. This section includes 17 miles and 11 rapids. \nWhere:  The Colorado River in southwestern Colorado and Southeastern Utah.  The Colorado river cuts through beautiful canyon country and offers a mild to white water experience.  This is a remote area where there will be no cell phone service. \nWhy:  A multi-day river trip is an ideal setting to reintegrate\, acquire new knowledge and skills together\, build new bonds\, have fun together\, and relax.  This offers a chance to get away from every day routines and daily life distractions\, where one can find new appreciation for each other\, and rediscover their strength and solidity as we travel down the beautiful canyons of the Colorado River.  The Colorado river will provide us great access to a spectacular wilderness environment while supporting veterans who have mobility restrictions.
URL:https://boec.org/program/womens-ruby-horsethief-river-trip/
LOCATION:Colorado River\, Southwestern Colorado and Southeastern Utah\, CO\, United States
CATEGORIES:Heroic Military Program
ATTACH;FMTTYPE=image/jpeg:https://boec.org/wp-content/uploads/2022/08/Lydia-Rafting.jpg
ORGANIZER;CN="BOEC - Summer":MAILTO:claire@boec.org
END:VEVENT
END:VCALENDAR