BEGIN:VCALENDAR
VERSION:2.0
PRODID:-//BOEC - ECPv6.15.20//NONSGML v1.0//EN
CALSCALE:GREGORIAN
METHOD:PUBLISH
X-ORIGINAL-URL:https://boec.org
X-WR-CALDESC:Events for BOEC
REFRESH-INTERVAL;VALUE=DURATION:PT1H
X-Robots-Tag:noindex
X-PUBLISHED-TTL:PT1H
BEGIN:VTIMEZONE
TZID:America/Denver
BEGIN:DAYLIGHT
TZOFFSETFROM:-0700
TZOFFSETTO:-0600
TZNAME:MDT
DTSTART:20220313T090000
END:DAYLIGHT
BEGIN:STANDARD
TZOFFSETFROM:-0600
TZOFFSETTO:-0700
TZNAME:MST
DTSTART:20221106T080000
END:STANDARD
BEGIN:DAYLIGHT
TZOFFSETFROM:-0700
TZOFFSETTO:-0600
TZNAME:MDT
DTSTART:20230312T090000
END:DAYLIGHT
BEGIN:STANDARD
TZOFFSETFROM:-0600
TZOFFSETTO:-0700
TZNAME:MST
DTSTART:20231105T080000
END:STANDARD
BEGIN:DAYLIGHT
TZOFFSETFROM:-0700
TZOFFSETTO:-0600
TZNAME:MDT
DTSTART:20240310T090000
END:DAYLIGHT
BEGIN:STANDARD
TZOFFSETFROM:-0600
TZOFFSETTO:-0700
TZNAME:MST
DTSTART:20241103T080000
END:STANDARD
END:VTIMEZONE
BEGIN:VEVENT
DTSTART;VALUE=DATE:20230626
DTEND;VALUE=DATE:20230701
DTSTAMP:20260423T211641
CREATED:20230221T193053Z
LAST-MODIFIED:20230511T165450Z
UID:16846-1687737600-1688169599@boec.org
SUMMARY:Wilderness Camp
DESCRIPTION:Who: Teens to young adults with developmental and learning disabilities. Coed\nAges: 16-21\nFees: $1050\, Scholarships Available\nProgram Flyer \n\nWho: This program is designed to accommodate youth ages 16-21 who are ready for a true backcountry wilderness adventure.  Activities include camping\, cooking\, river travel\, and spending full days outside. Individuals must meet all our enrollment guidelines to attend.  Friends\, family members and care attendants are welcome to join if assistance is needed.   \nWhat:  A classic western river trip. This trip involves floating down Ruby and Horse Thief Canyons of the Colorado River in canoes\, inflatable kayaks and paddleboards.  During this trip students will be involved in various aspects of camp craft including cooking\, cleaning\, setting up their tent and learning how to navigate the water in either a canoe or inflatable kayak. BOEC staff will be there to assist individuals through all aspects of the experience. \nWhere:  The Colorado River in southwestern Colorado and Southeastern Utah. This section includes 25 miles of scenic views\, wildlife viewing\, and opportunities for short hikes while paddling down river. This is a remote area where there will be no cell phone service.
URL:https://boec.org/program/wilderness-camp-2/
LOCATION:Colorado River\, Southwestern Colorado and Southeastern Utah\, CO\, United States
CATEGORIES:Developmental/Other Disabilities Camps
ATTACH;FMTTYPE=image/jpeg:https://boec.org/wp-content/uploads/2023/02/WildernessCamp1-1.jpg
ORGANIZER;CN="BOEC - Summer":MAILTO:claire@boec.org
END:VEVENT
END:VCALENDAR