BEGIN:VCALENDAR
VERSION:2.0
PRODID:-//BOEC - ECPv6.15.20//NONSGML v1.0//EN
CALSCALE:GREGORIAN
METHOD:PUBLISH
X-WR-CALNAME:BOEC
X-ORIGINAL-URL:https://boec.org
X-WR-CALDESC:Events for BOEC
REFRESH-INTERVAL;VALUE=DURATION:PT1H
X-Robots-Tag:noindex
X-PUBLISHED-TTL:PT1H
BEGIN:VTIMEZONE
TZID:America/Denver
BEGIN:DAYLIGHT
TZOFFSETFROM:-0700
TZOFFSETTO:-0600
TZNAME:MDT
DTSTART:20220313T090000
END:DAYLIGHT
BEGIN:STANDARD
TZOFFSETFROM:-0600
TZOFFSETTO:-0700
TZNAME:MST
DTSTART:20221106T080000
END:STANDARD
BEGIN:DAYLIGHT
TZOFFSETFROM:-0700
TZOFFSETTO:-0600
TZNAME:MDT
DTSTART:20230312T090000
END:DAYLIGHT
BEGIN:STANDARD
TZOFFSETFROM:-0600
TZOFFSETTO:-0700
TZNAME:MST
DTSTART:20231105T080000
END:STANDARD
BEGIN:DAYLIGHT
TZOFFSETFROM:-0700
TZOFFSETTO:-0600
TZNAME:MDT
DTSTART:20240310T090000
END:DAYLIGHT
BEGIN:STANDARD
TZOFFSETFROM:-0600
TZOFFSETTO:-0700
TZNAME:MST
DTSTART:20241103T080000
END:STANDARD
END:VTIMEZONE
BEGIN:VEVENT
DTSTART;VALUE=DATE:20230611
DTEND;VALUE=DATE:20230620
DTSTAMP:20260424T204340
CREATED:20230131T195110Z
LAST-MODIFIED:20230327T172626Z
UID:16645-1686441600-1687219199@boec.org
SUMMARY:Heroic Military San Juan River Trip
DESCRIPTION:Who: Open to veterans only\, Coed \nEvent Flyer\nDetails\nWho: This program is designed to accommodate veterans who have sustained a moderate to significant injury.  Injuries may include but are not limited to brain Injuries\, PTSD\, and/or amputees.  Due to the social aspect of outdoor adventures and camping\, participants must be ready to enjoy the company of other people (including raft guides). \nWhat:  A classic western river trip.  Floating down the San Juan river in rafts will provide us great access to a spectacular wilderness environment while supporting veterans who have mobility restrictions.  In addition to exploring the wilderness environment\, participants will be introduced to the unique prehistoric culture of the four-corners region. \nWhere:  The San Juan River in southeast Utah.  The San Juan cuts through beautiful canyon country and offers mild white water that is suitable for veterans with significant injury.  Sandy beaches and camps\, ancient rock art\, and beautiful natural scenery will be unforgettable highlights of the trip. \nWhy:  A multi-day river trip is an ideal setting for military veterans to reintegrate\, acquire new knowledge and skills together\, create bonds\, and have fun together\, and relax.  Away from everyday routines and daily life distractions one can find new appreciations for life and rediscover their strength and solidity as we travel down the beautiful San Juan River.
URL:https://boec.org/program/heroic-military-san-juan-river-trip/
LOCATION:San Juan River\, Bluff\, UT\, United States
CATEGORIES:Heroic Military Program
ATTACH;FMTTYPE=image/jpeg:https://boec.org/wp-content/uploads/2023/01/GroupPhoto_Rafting.jpg
ORGANIZER;CN="BOEC - Summer":MAILTO:claire@boec.org
END:VEVENT
END:VCALENDAR